BEGIN:VCALENDAR
VERSION:2.0
PRODID:-//Bridgeview Gun Club - ECPv6.15.13//NONSGML v1.0//EN
CALSCALE:GREGORIAN
METHOD:PUBLISH
X-WR-CALNAME:Bridgeview Gun Club
X-ORIGINAL-URL:https://www.bridgeviewgunclub.com
X-WR-CALDESC:Events for Bridgeview Gun Club
REFRESH-INTERVAL;VALUE=DURATION:PT1H
X-Robots-Tag:noindex
X-PUBLISHED-TTL:PT1H
BEGIN:VTIMEZONE
TZID:America/Chicago
BEGIN:DAYLIGHT
TZOFFSETFROM:-0600
TZOFFSETTO:-0500
TZNAME:CDT
DTSTART:20230312T080000
END:DAYLIGHT
BEGIN:STANDARD
TZOFFSETFROM:-0500
TZOFFSETTO:-0600
TZNAME:CST
DTSTART:20231105T070000
END:STANDARD
BEGIN:DAYLIGHT
TZOFFSETFROM:-0600
TZOFFSETTO:-0500
TZNAME:CDT
DTSTART:20240310T080000
END:DAYLIGHT
BEGIN:STANDARD
TZOFFSETFROM:-0500
TZOFFSETTO:-0600
TZNAME:CST
DTSTART:20241103T070000
END:STANDARD
BEGIN:DAYLIGHT
TZOFFSETFROM:-0600
TZOFFSETTO:-0500
TZNAME:CDT
DTSTART:20250309T080000
END:DAYLIGHT
BEGIN:STANDARD
TZOFFSETFROM:-0500
TZOFFSETTO:-0600
TZNAME:CST
DTSTART:20251102T070000
END:STANDARD
END:VTIMEZONE
BEGIN:VEVENT
DTSTART;TZID=America/Chicago:20240609T090000
DTEND;TZID=America/Chicago:20240609T124500
DTSTAMP:20260420T082140
CREATED:20240111T222803Z
LAST-MODIFIED:20250610T044402Z
UID:7552-1717923600-1717937100@www.bridgeviewgunclub.com
SUMMARY:South Louisiana IDPA Pistol Event
DESCRIPTION:
URL:https://www.bridgeviewgunclub.com/event/south-louisiana-idpa-pistol-event-3/
END:VEVENT
BEGIN:VEVENT
DTSTART;VALUE=DATE:20240608
DTEND;VALUE=DATE:20240609
DTSTAMP:20260420T082140
CREATED:20231214T002900Z
LAST-MODIFIED:20240601T145719Z
UID:6314-1717804800-1717891199@www.bridgeviewgunclub.com
SUMMARY:NSCA - June Shoot
DESCRIPTION:
URL:https://www.bridgeviewgunclub.com/event/nsca-june-shoot/
END:VEVENT
BEGIN:VEVENT
DTSTART;TZID=America/Chicago:20240606T150000
DTEND;TZID=America/Chicago:20240606T173000
DTSTAMP:20260420T082140
CREATED:20240411T181621Z
LAST-MODIFIED:20250607T044428Z
UID:11341-1717686000-1717695000@www.bridgeviewgunclub.com
SUMMARY:Meriplex Company Networking & Shoot
DESCRIPTION:
URL:https://www.bridgeviewgunclub.com/event/meriplex-company-networking-shoot/
END:VEVENT
BEGIN:VEVENT
DTSTART;TZID=America/Chicago:20240606T140000
DTEND;TZID=America/Chicago:20240606T210000
DTSTAMP:20260420T082140
CREATED:20231029T235432Z
LAST-MODIFIED:20250531T045920Z
UID:4405-1717682400-1717707600@www.bridgeviewgunclub.com
SUMMARY:Thursday Night Fun Shoot - Check Weekly Email for Menu
DESCRIPTION:
URL:https://www.bridgeviewgunclub.com/event/thursday-night-fun-shoot-check-weekly-email-for-menu-31/
LOCATION:Bridgeview Gun Club (1365 Northwest Dr\, Port Allen\, LA 70767\, United States)
END:VEVENT
BEGIN:VEVENT
DTSTART;TZID=America/Chicago:20240601T080000
DTEND;TZID=America/Chicago:20240601T150000
DTSTAMP:20260420T082140
CREATED:20240529T152952Z
LAST-MODIFIED:20250602T045900Z
UID:13013-1717228800-1717254000@www.bridgeviewgunclub.com
SUMMARY:Exxon Shoot. Club Closed Until 3:00PM
DESCRIPTION:
URL:https://www.bridgeviewgunclub.com/event/exxon-shoot-club-closed-until-300pm/
END:VEVENT
BEGIN:VEVENT
DTSTART;TZID=America/Chicago:20240530T140000
DTEND;TZID=America/Chicago:20240530T210000
DTSTAMP:20260420T082140
CREATED:20231029T235432Z
LAST-MODIFIED:20250524T045917Z
UID:4404-1717077600-1717102800@www.bridgeviewgunclub.com
SUMMARY:Thursday Night Fun Shoot - Check Weekly Email for Menu
DESCRIPTION:
URL:https://www.bridgeviewgunclub.com/event/thursday-night-fun-shoot-check-weekly-email-for-menu-30/
LOCATION:Bridgeview Gun Club (1365 Northwest Dr\, Port Allen\, LA 70767\, United States)
END:VEVENT
BEGIN:VEVENT
DTSTART;VALUE=DATE:20240524
DTEND;VALUE=DATE:20240525
DTSTAMP:20260420T082140
CREATED:20231019T220651Z
LAST-MODIFIED:20250526T044403Z
UID:3884-1716508800-1716595199@www.bridgeviewgunclub.com
SUMMARY:Dow United Way Shoot
DESCRIPTION:2 flight 15 station
URL:https://www.bridgeviewgunclub.com/event/dow-family-day-shoot/
END:VEVENT
BEGIN:VEVENT
DTSTART;TZID=America/Chicago:20240523T140000
DTEND;TZID=America/Chicago:20240523T210000
DTSTAMP:20260420T082140
CREATED:20231029T235432Z
LAST-MODIFIED:20250517T044354Z
UID:4403-1716472800-1716498000@www.bridgeviewgunclub.com
SUMMARY:Thursday Night Fun Shoot - Check Weekly Email for Menu
DESCRIPTION:
URL:https://www.bridgeviewgunclub.com/event/thursday-night-fun-shoot-check-weekly-email-for-menu-29/
LOCATION:Bridgeview Gun Club (1365 Northwest Dr\, Port Allen\, LA 70767\, United States)
END:VEVENT
BEGIN:VEVENT
DTSTART;TZID=America/Chicago:20240518T113000
DTEND;TZID=America/Chicago:20240518T123000
DTSTAMP:20260420T082140
CREATED:20231019T220651Z
LAST-MODIFIED:20250519T045900Z
UID:3888-1716031800-1716035400@www.bridgeviewgunclub.com
SUMMARY:NSSA Shoot (20g)
DESCRIPTION:
URL:https://www.bridgeviewgunclub.com/event/nssa-shoot-20g/
END:VEVENT
BEGIN:VEVENT
DTSTART;TZID=America/Chicago:20240516T140000
DTEND;TZID=America/Chicago:20240516T210000
DTSTAMP:20260420T082140
CREATED:20231029T235432Z
LAST-MODIFIED:20250510T044409Z
UID:4402-1715868000-1715893200@www.bridgeviewgunclub.com
SUMMARY:Thursday Night Fun Shoot - Check Weekly Email for Menu
DESCRIPTION:
URL:https://www.bridgeviewgunclub.com/event/thursday-night-fun-shoot-check-weekly-email-for-menu-28/
LOCATION:Bridgeview Gun Club (1365 Northwest Dr\, Port Allen\, LA 70767\, United States)
END:VEVENT
BEGIN:VEVENT
DTSTART;TZID=America/Chicago:20240511T080000
DTEND;TZID=America/Chicago:20240511T153000
DTSTAMP:20260420T082140
CREATED:20240508T210301Z
LAST-MODIFIED:20250512T043030Z
UID:12455-1715414400-1715441400@www.bridgeviewgunclub.com
SUMMARY:Pistol/Rifle Range Closed until 3:30pm
DESCRIPTION:
URL:https://www.bridgeviewgunclub.com/event/pistol-rifle-range-closed-until-330pm/
END:VEVENT
BEGIN:VEVENT
DTSTART;VALUE=DATE:20240511
DTEND;VALUE=DATE:20240512
DTSTAMP:20260420T082140
CREATED:20231214T002900Z
LAST-MODIFIED:20250513T044351Z
UID:6313-1715385600-1715471999@www.bridgeviewgunclub.com
SUMMARY:NSCA May Shoot
DESCRIPTION:
URL:https://www.bridgeviewgunclub.com/event/nsca-may-shoot/
END:VEVENT
BEGIN:VEVENT
DTSTART;TZID=America/Chicago:20240510T150000
DTEND;TZID=America/Chicago:20240510T180000
DTSTAMP:20260420T082140
CREATED:20240508T210301Z
LAST-MODIFIED:20250511T045930Z
UID:12454-1715353200-1715364000@www.bridgeviewgunclub.com
SUMMARY:Pistol/Rifle Range Closing @ 3:00pm
DESCRIPTION:Closing to set up for NSCA shoot.
URL:https://www.bridgeviewgunclub.com/event/pistol-rifle-range-closing-300pm/
END:VEVENT
BEGIN:VEVENT
DTSTART;TZID=America/Chicago:20240509T140000
DTEND;TZID=America/Chicago:20240509T210000
DTSTAMP:20260420T082140
CREATED:20231029T235432Z
LAST-MODIFIED:20250503T045914Z
UID:4401-1715263200-1715288400@www.bridgeviewgunclub.com
SUMMARY:Thursday Night Fun Shoot - Check Weekly Email for Menu
DESCRIPTION:
URL:https://www.bridgeviewgunclub.com/event/thursday-night-fun-shoot-check-weekly-email-for-menu-27/
LOCATION:Bridgeview Gun Club (1365 Northwest Dr\, Port Allen\, LA 70767\, United States)
END:VEVENT
BEGIN:VEVENT
DTSTART;VALUE=DATE:20240505
DTEND;VALUE=DATE:20240506
DTSTAMP:20260420T082140
CREATED:20240501T163048Z
LAST-MODIFIED:20250507T043913Z
UID:12153-1714867200-1714953599@www.bridgeviewgunclub.com
SUMMARY:IDPA Pistol Event
DESCRIPTION:
URL:https://www.bridgeviewgunclub.com/event/idpa-pistol-event/
END:VEVENT
BEGIN:VEVENT
DTSTART;TZID=America/Chicago:20240504T080000
DTEND;TZID=America/Chicago:20240504T150000
DTSTAMP:20260420T082140
CREATED:20231019T220651Z
LAST-MODIFIED:20250505T045909Z
UID:3886-1714809600-1714834800@www.bridgeviewgunclub.com
SUMMARY:Iberville 4H Family Shoot
DESCRIPTION:
URL:https://www.bridgeviewgunclub.com/event/iberville-4h-family-shoot/
END:VEVENT
BEGIN:VEVENT
DTSTART;TZID=America/Chicago:20240502T140000
DTEND;TZID=America/Chicago:20240502T210000
DTSTAMP:20260420T082140
CREATED:20231029T235432Z
LAST-MODIFIED:20250426T044415Z
UID:4400-1714658400-1714683600@www.bridgeviewgunclub.com
SUMMARY:Thursday Night Fun Shoot - Check Weekly Email for Menu
DESCRIPTION:
URL:https://www.bridgeviewgunclub.com/event/thursday-night-fun-shoot-check-weekly-email-for-menu-26/
LOCATION:Bridgeview Gun Club (1365 Northwest Dr\, Port Allen\, LA 70767\, United States)
END:VEVENT
BEGIN:VEVENT
DTSTART;TZID=America/Chicago:20240427T080000
DTEND;TZID=America/Chicago:20240427T150000
DTSTAMP:20260420T082140
CREATED:20231019T220651Z
LAST-MODIFIED:20250428T044517Z
UID:3885-1714204800-1714230000@www.bridgeviewgunclub.com
SUMMARY:Ryan W Smith cancer research fundraiser
DESCRIPTION:Kim Smith +12259376901
URL:https://www.bridgeviewgunclub.com/event/ryan-w-smith-cancer-research-fundraiser/
END:VEVENT
BEGIN:VEVENT
DTSTART;TZID=America/Chicago:20240425T140000
DTEND;TZID=America/Chicago:20240425T210000
DTSTAMP:20260420T082140
CREATED:20231029T235432Z
LAST-MODIFIED:20250419T045939Z
UID:4399-1714053600-1714078800@www.bridgeviewgunclub.com
SUMMARY:Thursday Night Fun Shoot - Check Weekly Email for Menu
DESCRIPTION:
URL:https://www.bridgeviewgunclub.com/event/thursday-night-fun-shoot-check-weekly-email-for-menu-25/
LOCATION:Bridgeview Gun Club (1365 Northwest Dr\, Port Allen\, LA 70767\, United States)
END:VEVENT
BEGIN:VEVENT
DTSTART;TZID=America/Chicago:20240419T140000
DTEND;TZID=America/Chicago:20240419T183000
DTSTAMP:20260420T082140
CREATED:20240402T200115Z
LAST-MODIFIED:20250420T050001Z
UID:10968-1713535200-1713551400@www.bridgeviewgunclub.com
SUMMARY:Eco-Services Maintenance  - Team Building
DESCRIPTION:
URL:https://www.bridgeviewgunclub.com/event/eco-services-maintenance-team-building/
END:VEVENT
BEGIN:VEVENT
DTSTART;TZID=America/Chicago:20240418T140000
DTEND;TZID=America/Chicago:20240418T210000
DTSTAMP:20260420T082140
CREATED:20231029T235432Z
LAST-MODIFIED:20250412T044524Z
UID:4398-1713448800-1713474000@www.bridgeviewgunclub.com
SUMMARY:Thursday Night Fun Shoot - Check Weekly Email for Menu
DESCRIPTION:
URL:https://www.bridgeviewgunclub.com/event/thursday-night-fun-shoot-check-weekly-email-for-menu-24/
LOCATION:Bridgeview Gun Club (1365 Northwest Dr\, Port Allen\, LA 70767\, United States)
END:VEVENT
BEGIN:VEVENT
DTSTART;TZID=America/Chicago:20240415T080000
DTEND;TZID=America/Chicago:20240415T150000
DTSTAMP:20260420T082140
CREATED:20231019T220651Z
LAST-MODIFIED:20250416T045934Z
UID:3878-1713168000-1713193200@www.bridgeviewgunclub.com
SUMMARY:Our Lady of Mercy Benefit Shoot
DESCRIPTION:Greg Trahan/Mark Vincent
URL:https://www.bridgeviewgunclub.com/event/our-lady-of-mercy-benefit-shoot/
END:VEVENT
BEGIN:VEVENT
DTSTART;TZID=America/Chicago:20240414T090000
DTEND;TZID=America/Chicago:20240414T170000
DTSTAMP:20260420T082140
CREATED:20240128T215854Z
LAST-MODIFIED:20250415T045954Z
UID:8273-1713085200-1713114000@www.bridgeviewgunclub.com
SUMMARY:Geaux Shotgun Fundraiser
DESCRIPTION:
URL:https://www.bridgeviewgunclub.com/event/geaux-shotgun-fundraiser/
END:VEVENT
BEGIN:VEVENT
DTSTART;TZID=America/Chicago:20240414T090000
DTEND;TZID=America/Chicago:20240414T130000
DTSTAMP:20260420T082140
CREATED:20240111T222802Z
LAST-MODIFIED:20250415T045954Z
UID:7551-1713085200-1713099600@www.bridgeviewgunclub.com
SUMMARY:South Louisiana IDPA Pistol Event
DESCRIPTION:
URL:https://www.bridgeviewgunclub.com/event/south-louisiana-idpa-pistol-event-2/
END:VEVENT
BEGIN:VEVENT
DTSTART;TZID=America/Chicago:20240413T080000
DTEND;TZID=America/Chicago:20240413T150000
DTSTAMP:20260420T082140
CREATED:20231019T220651Z
LAST-MODIFIED:20250414T044405Z
UID:3882-1712995200-1713020400@www.bridgeviewgunclub.com
SUMMARY:Symphony Orchestra Shoot
DESCRIPTION:Barbara
URL:https://www.bridgeviewgunclub.com/event/symphony-orchestra-shoot/
END:VEVENT
BEGIN:VEVENT
DTSTART;TZID=America/Chicago:20240412T080000
DTEND;TZID=America/Chicago:20240412T150000
DTSTAMP:20260420T082140
CREATED:20231019T220651Z
LAST-MODIFIED:20240411T154705Z
UID:3881-1712908800-1712934000@www.bridgeviewgunclub.com
SUMMARY:Pull for Law Enforcement
DESCRIPTION:
URL:https://www.bridgeviewgunclub.com/event/pull-for-law-enforcement/
END:VEVENT
BEGIN:VEVENT
DTSTART;TZID=America/Chicago:20240411T140000
DTEND;TZID=America/Chicago:20240411T210000
DTSTAMP:20260420T082140
CREATED:20231029T235431Z
LAST-MODIFIED:20250405T044356Z
UID:4397-1712844000-1712869200@www.bridgeviewgunclub.com
SUMMARY:Thursday Night Fun Shoot - Check Weekly Email for Menu
DESCRIPTION:
URL:https://www.bridgeviewgunclub.com/event/thursday-night-fun-shoot-check-weekly-email-for-menu-23/
LOCATION:Bridgeview Gun Club (1365 Northwest Dr\, Port Allen\, LA 70767\, United States)
END:VEVENT
BEGIN:VEVENT
DTSTART;VALUE=DATE:20240406
DTEND;VALUE=DATE:20240407
DTSTAMP:20260420T082140
CREATED:20231214T002859Z
LAST-MODIFIED:20250408T043021Z
UID:6312-1712361600-1712447999@www.bridgeviewgunclub.com
SUMMARY:NSCA - April Shoot
DESCRIPTION:
URL:https://www.bridgeviewgunclub.com/event/nsca-april-shoot/
END:VEVENT
BEGIN:VEVENT
DTSTART;TZID=America/Chicago:20240404T140000
DTEND;TZID=America/Chicago:20240404T210000
DTSTAMP:20260420T082140
CREATED:20231029T235431Z
LAST-MODIFIED:20250329T043146Z
UID:4396-1712239200-1712264400@www.bridgeviewgunclub.com
SUMMARY:Thursday Night Fun Shoot - Check Weekly Email for Menu
DESCRIPTION:
URL:https://www.bridgeviewgunclub.com/event/thursday-night-fun-shoot-check-weekly-email-for-menu-22/
LOCATION:Bridgeview Gun Club (1365 Northwest Dr\, Port Allen\, LA 70767\, United States)
END:VEVENT
BEGIN:VEVENT
DTSTART;TZID=America/Chicago:20240328T140000
DTEND;TZID=America/Chicago:20240328T210000
DTSTAMP:20260420T082140
CREATED:20231029T235431Z
LAST-MODIFIED:20250322T043009Z
UID:4395-1711634400-1711659600@www.bridgeviewgunclub.com
SUMMARY:Thursday Night Fun Shoot - Check Weekly Email for Menu
DESCRIPTION:
URL:https://www.bridgeviewgunclub.com/event/thursday-night-fun-shoot-check-weekly-email-for-menu-21/
LOCATION:Bridgeview Gun Club (1365 Northwest Dr\, Port Allen\, LA 70767\, United States)
END:VEVENT
END:VCALENDAR